BEGIN:VCALENDAR
VERSION:2.0
PRODID:-//wp-events-plugin.com//7.2.3.1//EN
BEGIN:VEVENT
UID:426@ctkoreanschool.org
DTSTART:20250329T170000Z
DTEND:20250329T210000Z
DTSTAMP:20250326T152310Z
URL:https://ctkoreanschool.org/events/winter-semester-closing-celebration/
SUMMARY:Winter Semester Closing Celebration
DESCRIPTION:Join Us for an Unforgettable Closing Winter Semester Celebratio
 n at DaWa Korean Restaurant in West Haven!\nCome and celebrate the end of 
 a fantastic winter semester with us at DaWa Korean Restaurant\, located at
  473 Sawmill Rd\, West Haven\, CT 06516\, on Saturday\, March 29\, at 5:00
  PM (저녁 5시). This special gathering is the perfect way to reflect on
  a successful semester\, enjoy delicious Korean cuisine\, and create lasti
 ng memories with friends\, family\, and the community.\n\n🌟 What to Exp
 ect:This event features a casual yet heartwarming closing ceremony\, inclu
 ding student class presentations that highlight the incredible progress an
 d achievements made throughout the semester. It's an opportunity to apprec
 iate the hard work and dedication of our students\, teachers\, and everyon
 e who made this semester a success.\n🎉 Fun Cultural Activities:Experien
 ce the joy of Korean culture with engaging activities such as 공기 놀
 이 (gonggi nori) — a traditional Korean game — and 종이 접기 (jon
 gi jeopgi)\, the art of Korean paper folding. These fun-filled activities 
 are great for all ages and offer a hands-on way to connect with Korea’s 
 rich cultural heritage.\n🍽️ Unique Dining Experience:Enjoy an authent
 ic Korean dining experience where you can order your meal in Korean\, offe
 ring a fun and immersive way to practice the language. While you cover you
 r meal\, the school will treat you to mouthwatering 김치전 (kimchijeon)
  — savory Korean pancakes — as a token of appreciation.\n\n📅 Event 
 Details:\n\n\n 	\nDate: Saturday\, March 29\, 2025\n\n 	\nTime: 5:00 PM (
 저녁 5시)\n\n 	\nLocation: DaWa Korean Restaurant\, 473 Sawmill Rd\, We
 st Haven\, CT 06516\n\n 	\nWebsite: https://www.dawatofu.com/\n\n\nLet’s
  come together to celebrate with good food\, fun activities\, and friendsh
 ip. Whether you’re a student\, parent\, or simply a lover of Korean cult
 ure\, this event is open to everyone.
ATTACH;FMTTYPE=image/jpeg:https://ctkoreanschool.org/wp-content/uploads/20
 25/03/IMG_4636.jpeg
CATEGORIES:Events
END:VEVENT
END:VCALENDAR