BEGIN:VCALENDAR
VERSION:2.0
PRODID:-//wp-events-plugin.com//7.2.3.1//EN
BEGIN:VEVENT
UID:385@ctkoreanschool.org
DTSTART:20250417T173000Z
DTEND:20250417T190000Z
DTSTAMP:20250326T150300Z
URL:https://ctkoreanschool.org/events/weekday-evening-korean-language-clas
 ses-spring-2025-2025-04-17/
SUMMARY:Weekday Evening Korean Language Classes -Spring 2025
DESCRIPTION:Discover the joy of learning Korean with our Weekday Evening Ko
 rean Language Classes\, starting April 16\, 2025. These interactive online
  classes take place every Wednesday and Thursday from 5:30 PM to 7:00 PM v
 ia Zoom\, offering the perfect opportunity for teens and adults to build o
 r improve their Korean language skills. Whether you're a complete beginner
  or looking to enhance your fluency\, our engaging lessons are designed to
  suit all proficiency levels.\nOver the course of 10 weeks\, students will
  gain a deeper understanding of Korean vocabulary\, grammar\, pronunciatio
 n\, and conversational skills while also exploring aspects of Korean cultu
 re. Our small class sizes allow students to receive personalized feedback 
 from experienced instructors dedicated to helping you learn Korean.\nTuiti
 on for the full 10-week course is $190 payable by PayPal\, Venmo\, and Ze
 lle.\nRegister by April 6\, 2025\, to secure your spot! For enrollment and
  more information\, reach out via:\n\n\n 	\nEmail: cskoreanschool@gmail.co
 m\n\n 	\nWebsite: www.ctkoreanschool.org\n\n 	\nPhone: 203-314-1357\n\n
CATEGORIES:Classes
END:VEVENT
END:VCALENDAR