BEGIN:VCALENDAR
VERSION:2.0
PRODID:-//wp-events-plugin.com//7.2.3.1//EN
BEGIN:VEVENT
UID:424@ctkoreanschool.org
DTSTART:20250607T103000Z
DTEND:20250607T120000Z
DTSTAMP:20250326T151618Z
URL:https://ctkoreanschool.org/events/saturday-morning-intermediate-korean
 -language-classes-spring-2025-2025-06-07/
SUMMARY:Saturday Morning Intermediate Korean Language Classes – Spring 20
 25
DESCRIPTION:Start your weekends off right with our Saturday Morning Interme
 diate Korean Language Classes\, designed to help learners of all levels ma
 ster the art of speaking\, reading\, and writing Korean. Classes begin on 
 April 12\, 2025\, and are conducted online via Zoom\, making it easy for s
 tudents to join from anywhere. Whether you're a complete beginner or progr
 essing toward intermediate fluency\, we have tailored sessions to fit your
  needs.\n\n\n 	\nIntermediate Class: 10:30 AM – 12:00 PM\n\n\nOur experi
 enced instructors focus on helping students improve their Korean language 
 skills\, including pronunciation\, vocabulary building\, conversational fl
 uency\, and comprehension. Beyond language\, we also introduce elements of
  Korean culture\, helping students gain a well-rounded understanding of Ko
 rea’s rich heritage.\nWith flexible payment options like PayPal\, Venmo\
 , and Zelle\, enrolling in our 10-week program for $190 is simple and affo
 rdable. This course is ideal for teens and adults who want to learn a new 
 language or deepen their existing skills in a friendly and interactive vir
 tual environment.\nTuition for the full 10-week course is $190 payable by
  PayPal\, Venmo\, and Zelle.\nRegister by April 6\, 2025\, to secure your 
 spot! For enrollment and more information\, reach out via:\n\n 	Email: csk
 oreanschool@gmail.com\n 	Website: www.ctkoreanschool.org\n 	Phone: 203-314
 -1357\n
CATEGORIES:Classes
END:VEVENT
END:VCALENDAR