BEGIN:VCALENDAR
VERSION:2.0
PRODID:-//wp-events-plugin.com//7.2.3.1//EN
BEGIN:VEVENT
UID:408@ctkoreanschool.org
DTSTART:20250503T090000Z
DTEND:20250503T103000Z
DTSTAMP:20250326T151418Z
URL:https://ctkoreanschool.org/events/saturday-morning-beginner-korean-lan
 guage-classes-spring-2025-2025-05-03/
SUMMARY:Saturday Morning Beginner Korean Language Classes – Spring 2025
DESCRIPTION:Start your weekends off right with our Saturday Morning Beginne
 r Korean Language Classes\, designed to help learners of all levels master
  the art of speaking\, reading\, and writing Korean. Classes begin on Apri
 l 12\, 2025\, and are conducted online via Zoom\, making it easy for stude
 nts to join from anywhere. Whether you're a complete beginner or progressi
 ng toward intermediate fluency\, we have tailored sessions to fit your nee
 ds.\n\n\n 	\nBeginner Class: 9:00 AM – 10:30 AM\n\n\nOur experienced ins
 tructors focus on helping students improve their Korean language skills\, 
 including pronunciation\, vocabulary building\, conversational fluency\, a
 nd comprehension. Beyond language\, we also introduce elements of Korean c
 ulture\, helping students gain a well-rounded understanding of Korea’s r
 ich heritage.\nWith flexible payment options like PayPal\, Venmo\, and Zel
 le\, enrolling in our 10-week program for $190 is simple and affordable. T
 his course is ideal for teens and adults who want to learn a new language 
 or deepen their existing skills in a friendly and interactive virtual envi
 ronment.\nTuition for the full 10-week course is $190 payable by PayPal\,
  Venmo\, and Zelle.\nRegister by April 6\, 2025\, to secure your spot! For
  enrollment and more information\, reach out via:\n\n 	Email: cskoreanscho
 ol@gmail.com\n 	Website: www.ctkoreanschool.org\n 	Phone: 203-314-1357\n
CATEGORIES:Classes
END:VEVENT
END:VCALENDAR