BEGIN:VCALENDAR
VERSION:2.0
PRODID:-//wp-events-plugin.com//7.2.3.1//EN
BEGIN:VEVENT
UID:304@ctkoreanschool.org
DTSTART;TZID=America/New_York:20241207T111500
DTEND;TZID=America/New_York:20241207T120000
DTSTAMP:20240830T153604Z
URL:https://ctkoreanschool.org/events/learn-korean-through-k-pop-a-fun-and
 -interactive-class-2024-12-07/
SUMMARY:Learn Korean Through K-Pop: A Fun and Interactive Class
DESCRIPTION:Unleash your inner K-pop fan and learn Korean through popular s
 ongs. Our K-pop class is a fun and engaging way to improve your language s
 kills.
ATTACH;FMTTYPE=image/jpeg:https://ctkoreanschool.org/wp-content/uploads/20
 24/08/IMG_0891.jpg
CATEGORIES:Classes
END:VEVENT
BEGIN:VTIMEZONE
TZID:America/New_York
X-LIC-LOCATION:America/New_York
BEGIN:STANDARD
DTSTART:20241103T010000
TZOFFSETFROM:-0400
TZOFFSETTO:-0500
TZNAME:EST
END:STANDARD
END:VTIMEZONE
END:VCALENDAR