BEGIN:VCALENDAR
VERSION:2.0
PRODID:-//wp-events-plugin.com//7.2.3.1//EN
BEGIN:VEVENT
UID:294@ctkoreanschool.org
DTSTART;TZID=America/New_York:20240928T111500
DTEND;TZID=America/New_York:20240928T120000
DTSTAMP:20240830T153604Z
URL:https://ctkoreanschool.org/events/learn-korean-through-k-pop-a-fun-and
 -interactive-class-2024-09-28/
SUMMARY:Learn Korean Through K-Pop: A Fun and Interactive Class
DESCRIPTION:Unleash your inner K-pop fan and learn Korean through popular s
 ongs. Our K-pop class is a fun and engaging way to improve your language s
 kills.
ATTACH;FMTTYPE=image/jpeg:https://ctkoreanschool.org/wp-content/uploads/20
 24/08/IMG_0891.jpg
CATEGORIES:Classes
END:VEVENT
BEGIN:VTIMEZONE
TZID:America/New_York
X-LIC-LOCATION:America/New_York
BEGIN:DAYLIGHT
DTSTART:20240310T030000
TZOFFSETFROM:-0500
TZOFFSETTO:-0400
TZNAME:EDT
END:DAYLIGHT
END:VTIMEZONE
END:VCALENDAR