BEGIN:VCALENDAR
VERSION:2.0
PRODID:-//wp-events-plugin.com//7.2.3.1//EN
BEGIN:VEVENT
UID:248@ctkoreanschool.org
DTSTART;TZID=America/New_York:20241011T173000
DTEND;TZID=America/New_York:20241011T200000
DTSTAMP:20240830T151645Z
URL:https://ctkoreanschool.org/events/korean-language-and-culture-class-mi
 ddle-and-high-school-2024-10-11/
SUMMARY:Korean Language and Culture Class (Middle and High School)
DESCRIPTION:Take your Korean language skills to the next level with our cha
 llenging and rewarding classes. Our curriculum is designed to help middle 
 school and high school students develop fluency and confidence in Korean.
ATTACH;FMTTYPE=image/jpeg:https://ctkoreanschool.org/wp-content/uploads/20
 24/08/Connecticut-Korean-School-Fairfield-Campus.jpeg
CATEGORIES:Classes
LOCATION:Fairfield Campus: Dolan Business School\, 1073 N Benson Rd\, Fairf
 ield\, Connecticut\, 06824\, United States
X-APPLE-STRUCTURED-LOCATION;VALUE=URI;X-ADDRESS=1073 N Benson Rd\, Fairfiel
 d\, Connecticut\, 06824\, United States;X-APPLE-RADIUS=100;X-TITLE=Fairfie
 ld Campus: Dolan Business School:geo:0,0
END:VEVENT
BEGIN:VTIMEZONE
TZID:America/New_York
X-LIC-LOCATION:America/New_York
BEGIN:DAYLIGHT
DTSTART:20240310T030000
TZOFFSETFROM:-0500
TZOFFSETTO:-0400
TZNAME:EDT
END:DAYLIGHT
END:VTIMEZONE
END:VCALENDAR