BEGIN:VCALENDAR
VERSION:2.0
PRODID:-//wp-events-plugin.com//7.2.3.1//EN
BEGIN:VEVENT
UID:242@ctkoreanschool.org
DTSTART;TZID=America/New_York:20241129T160000
DTEND;TZID=America/New_York:20241129T183000
DTSTAMP:20240830T151308Z
URL:https://ctkoreanschool.org/events/korean-language-and-culture-class-k-
 to-5th-grade-2024-11-29/
SUMMARY:Korean Language and Culture Class (K to 5th Grade)
DESCRIPTION:Discover the joy of learning Korean with our engaging and inter
 active classes. Our curriculum is tailored to young learners\, making it e
 asy for them to grasp the language and appreciate Korean culture.
ATTACH;FMTTYPE=image/jpeg:https://ctkoreanschool.org/wp-content/uploads/20
 24/08/Connecticut-Korean-School-Fairfield-Campus.jpeg
CATEGORIES:Classes
LOCATION:Fairfield Campus: Dolan Business School\, 1073 N Benson Rd\, Fairf
 ield\, Connecticut\, 06824\, United States
X-APPLE-STRUCTURED-LOCATION;VALUE=URI;X-ADDRESS=1073 N Benson Rd\, Fairfiel
 d\, Connecticut\, 06824\, United States;X-APPLE-RADIUS=100;X-TITLE=Fairfie
 ld Campus: Dolan Business School:geo:0,0
END:VEVENT
BEGIN:VTIMEZONE
TZID:America/New_York
X-LIC-LOCATION:America/New_York
BEGIN:STANDARD
DTSTART:20241103T010000
TZOFFSETFROM:-0400
TZOFFSETTO:-0500
TZNAME:EST
END:STANDARD
END:VTIMEZONE
END:VCALENDAR