BEGIN:VCALENDAR
VERSION:2.0
PRODID:-//wp-events-plugin.com//7.2.3.1//EN
BEGIN:VEVENT
UID:292@ctkoreanschool.org
DTSTART;TZID=America/New_York:20241207T103000
DTEND;TZID=America/New_York:20241207T120000
DTSTAMP:20240830T153159Z
URL:https://ctkoreanschool.org/events/intermediate-korean-language-class-t
 eens-and-adults-2024-12-07/
SUMMARY:Intermediate Korean Language Class (Teens and Adults)
DESCRIPTION:Advance your Korean language skills and gain a deeper appreciat
 ion for Korean culture. Our intermediate class is designed to challenge an
 d motivate teens and adults all from the comfort of your home. 
ATTACH;FMTTYPE=image/jpeg:https://ctkoreanschool.org/wp-content/uploads/20
 24/08/IMG_0891.jpg
CATEGORIES:Classes
END:VEVENT
BEGIN:VTIMEZONE
TZID:America/New_York
X-LIC-LOCATION:America/New_York
BEGIN:STANDARD
DTSTART:20241103T010000
TZOFFSETFROM:-0400
TZOFFSETTO:-0500
TZNAME:EST
END:STANDARD
END:VTIMEZONE
END:VCALENDAR