BEGIN:VCALENDAR
VERSION:2.0
PRODID:-//wp-events-plugin.com//7.2.3.1//EN
BEGIN:VEVENT
UID:268@ctkoreanschool.org
DTSTART:20241203T190000Z
DTEND:20241203T200000Z
DTSTAMP:20240830T152023Z
URL:https://ctkoreanschool.org/events/class-help-online-2024-12-03/
SUMMARY:Class Help (Online)
DESCRIPTION:Get the extra support you need to succeed in Korean with our on
 line tutoring sessions. Our experienced tutors are available to answer you
 r questions and help you improve your language skills.
ATTACH;FMTTYPE=image/jpeg:https://ctkoreanschool.org/wp-content/uploads/20
 24/08/Connecticut-Korean-School-Fairfield-Campus.jpeg
CATEGORIES:Classes
END:VEVENT
END:VCALENDAR