BEGIN:VCALENDAR
VERSION:2.0
PRODID:-//wp-events-plugin.com//7.2.3.1//EN
BEGIN:VEVENT
UID:280@ctkoreanschool.org
DTSTART:20241207T090000Z
DTEND:20241207T103000Z
DTSTAMP:20240830T153318Z
URL:https://ctkoreanschool.org/events/beginner-korean-language-class-adult
 s-teens-2024-12-07/
SUMMARY:Beginner Korean Language Class (Teens and Adults)
DESCRIPTION:Discover the beauty of the Korean language from the comfort of 
 your home. Our beginner-friendly class is perfect for teens and adults who
  want to start speaking Korean all from the comfort of your home.\n\n
ATTACH;FMTTYPE=image/jpeg:https://ctkoreanschool.org/wp-content/uploads/20
 24/08/IMG_0891.jpg
CATEGORIES:Classes
END:VEVENT
END:VCALENDAR